BEGIN:VCALENDAR
VERSION:2.0
PRODID:-//kyohatsu//JP
CALSCALE:GREGORIAN
BEGIN:VEVENT
DTSTART;VALUE=DATE:20260605
SUMMARY:ステージ
DESCRIPTION:グレイト・ホワイト DEADLINE
UID:4526180758938@kyohatsu.lb-product.com
END:VEVENT
END:VCALENDAR
