BEGIN:VCALENDAR
VERSION:2.0
PRODID:-//kyohatsu//JP
CALSCALE:GREGORIAN
BEGIN:VEVENT
DTSTART;VALUE=DATE:20260525
SUMMARY:グリーン・アスファルト
DESCRIPTION:グリーン・アスファルト BELLE ANTIQUE
UID:4524505357507@kyohatsu.lb-product.com
END:VEVENT
END:VCALENDAR
