BEGIN:VCALENDAR
VERSION:2.0
PRODID:-//kyohatsu//JP
CALSCALE:GREGORIAN
BEGIN:VEVENT
DTSTART;VALUE=DATE:20260605
SUMMARY:アイ・ユースト・トゥ・ビー
DESCRIPTION:クロッシング・アイズ・ドッティング・ティーズ CLEOPATRA
UID:4526180758853@kyohatsu.lb-product.com
END:VEVENT
END:VCALENDAR
