BEGIN:VCALENDAR
VERSION:2.0
PRODID:-//kyohatsu//JP
CALSCALE:GREGORIAN
BEGIN:VEVENT
DTSTART;VALUE=DATE:20260522
SUMMARY:極上騎士団長の溺愛調教〜その巨大すぎる愛、すべて受け入れてみせます！〜（2）
DESCRIPTION:クロサキゼロ 一迅社
UID:9784758098953@kyohatsu.lb-product.com
END:VEVENT
END:VCALENDAR
