BEGIN:VCALENDAR
VERSION:2.0
PRODID:-//kyohatsu//JP
CALSCALE:GREGORIAN
BEGIN:VEVENT
DTSTART;VALUE=DATE:20260708
SUMMARY:夜は猫といっしょ 9
DESCRIPTION:キュルZ KADOKAWA
UID:9784046602572@kyohatsu.lb-product.com
END:VEVENT
END:VCALENDAR
