BEGIN:VCALENDAR
VERSION:2.0
PRODID:-//kyohatsu//JP
CALSCALE:GREGORIAN
BEGIN:VEVENT
DTSTART;VALUE=DATE:20260617
SUMMARY:キャメオシス/フィール・ミー - トゥー・アルバムズ・オン・ワン・シーディー
DESCRIPTION:キャメオ SOLID、CHERRY RED
UID:4526180759935@kyohatsu.lb-product.com
END:VEVENT
END:VCALENDAR
