BEGIN:VCALENDAR
VERSION:2.0
PRODID:-//kyohatsu//JP
CALSCALE:GREGORIAN
BEGIN:VEVENT
DTSTART;VALUE=DATE:20260722
SUMMARY:【楽天ブックス限定先着特典】劇場版総集編 ガールズバンドクライ 【前編】 青春狂走曲（通常版）【Blu-ray】(アクリルパネル（A6サイズ）)
DESCRIPTION:ガールズバンドクライ ユニバーサルミュージック
UID:2100014869599@kyohatsu.lb-product.com
END:VEVENT
BEGIN:VEVENT
DTSTART;VALUE=DATE:20260722
SUMMARY:【楽天ブックス限定先着特典】劇場版総集編 ガールズバンドクライ 【後編】 なぁ、未来。（通常版）(アクリルパネル（A6サイズ）)
DESCRIPTION:ガールズバンドクライ ユニバーサルミュージック
UID:2100014869629@kyohatsu.lb-product.com
END:VEVENT
BEGIN:VEVENT
DTSTART;VALUE=DATE:20260722
SUMMARY:【楽天ブックス限定先着特典】劇場版総集編 ガールズバンドクライ 【前編】 青春狂走曲（通常版）(アクリルパネル（A6サイズ）)
DESCRIPTION:ガールズバンドクライ ユニバーサルミュージック
UID:2100014869605@kyohatsu.lb-product.com
END:VEVENT
BEGIN:VEVENT
DTSTART;VALUE=DATE:20260722
SUMMARY:【楽天ブックス限定先着特典】劇場版総集編 ガールズバンドクライ 【前編】 青春狂走曲（初回限定版）【Blu-ray】(アクリルパネル（A6サイズ）)
DESCRIPTION:ガールズバンドクライ ユニバーサルミュージック
UID:2100014869636@kyohatsu.lb-product.com
END:VEVENT
BEGIN:VEVENT
DTSTART;VALUE=DATE:20260722
SUMMARY:【楽天ブックス限定先着特典】劇場版総集編 ガールズバンドクライ 【後編】 なぁ、未来。（通常版）【Blu-ray】(アクリルパネル（A6サイズ）)
DESCRIPTION:ガールズバンドクライ ユニバーサルミュージック
UID:2100014869612@kyohatsu.lb-product.com
END:VEVENT
BEGIN:VEVENT
DTSTART;VALUE=DATE:20260722
SUMMARY:【楽天ブックス限定先着特典】劇場版総集編 ガールズバンドクライ 【後編】 なぁ、未来。（初回限定版）【Blu-ray】(アクリルパネル（A6サイズ）)
DESCRIPTION:ガールズバンドクライ ユニバーサルミュージック
UID:2100014869643@kyohatsu.lb-product.com
END:VEVENT
END:VCALENDAR
