BEGIN:VCALENDAR
VERSION:2.0
PRODID:-//kyohatsu//JP
CALSCALE:GREGORIAN
BEGIN:VEVENT
DTSTART;VALUE=DATE:20260527
SUMMARY:【先着特典】機動戦士Gundam GQuuuuuuX -Beginning-(描き下ろしイラスト使用ミニ色紙)
DESCRIPTION:ガンダム (株)バンダイナムコフィルムワークス
UID:2100014669960@kyohatsu.lb-product.com
END:VEVENT
BEGIN:VEVENT
DTSTART;VALUE=DATE:20260527
SUMMARY:【先着特典】機動戦士Gundam GQuuuuuuX -Beginning-（4K ULTRA HD Blu-ray+Blu-ray）【4K ULTRA HD】(描き下ろしイラスト使用ミニ色紙)
DESCRIPTION:ガンダム (株)バンダイナムコフィルムワークス
UID:2100014669977@kyohatsu.lb-product.com
END:VEVENT
END:VCALENDAR
