BEGIN:VCALENDAR
VERSION:2.0
PRODID:-//kyohatsu//JP
CALSCALE:GREGORIAN
BEGIN:VEVENT
DTSTART;VALUE=DATE:20260807
SUMMARY:タンツナイト
DESCRIPTION:エレクトリック・コールボーイ (株)ソニー・ミュージックレーベルズ
UID:4547366823219@kyohatsu.lb-product.com
END:VEVENT
END:VCALENDAR
