BEGIN:VCALENDAR
VERSION:2.0
PRODID:-//kyohatsu//JP
CALSCALE:GREGORIAN
BEGIN:VEVENT
DTSTART;VALUE=DATE:20260617
SUMMARY:エマーソン、レイク・アンド・パウエル(ブラック 180g ヴァイナル・エディション)【アナログ盤】
DESCRIPTION:エマーソン、レイク&パウエル SOLID、CHERRY RED
UID:4526180760184@kyohatsu.lb-product.com
END:VEVENT
END:VCALENDAR
