BEGIN:VCALENDAR
VERSION:2.0
PRODID:-//kyohatsu//JP
CALSCALE:GREGORIAN
BEGIN:VEVENT
DTSTART;VALUE=DATE:20260526
SUMMARY:今日がいちばん若いから 年齢を吹き飛ばす生き方
DESCRIPTION:エド・はるみ KADOKAWA
UID:9784046840233@kyohatsu.lb-product.com
END:VEVENT
END:VCALENDAR
