BEGIN:VCALENDAR
VERSION:2.0
PRODID:-//kyohatsu//JP
CALSCALE:GREGORIAN
BEGIN:VEVENT
DTSTART;VALUE=DATE:20260616
SUMMARY:秘蔵！東京パワスポ大全！
DESCRIPTION:エスパー・小林 青林堂
UID:9784792608019@kyohatsu.lb-product.com
END:VEVENT
END:VCALENDAR
