BEGIN:VCALENDAR
VERSION:2.0
PRODID:-//kyohatsu//JP
CALSCALE:GREGORIAN
BEGIN:VEVENT
DTSTART;VALUE=DATE:20260617
SUMMARY:パンクス・ノット・デッド【アナログ盤】
DESCRIPTION:エクスプロイテッド SOLID、CHERRY RED
UID:4526180760023@kyohatsu.lb-product.com
END:VEVENT
END:VCALENDAR
