BEGIN:VCALENDAR
VERSION:2.0
PRODID:-//kyohatsu//JP
CALSCALE:GREGORIAN
BEGIN:VEVENT
DTSTART;VALUE=DATE:20260428
SUMMARY:天上大風
DESCRIPTION:エイワ・スモールウッド 幻冬舎
UID:9784344698802@kyohatsu.lb-product.com
END:VEVENT
END:VCALENDAR
