BEGIN:VCALENDAR
VERSION:2.0
PRODID:-//kyohatsu//JP
CALSCALE:GREGORIAN
BEGIN:VEVENT
DTSTART;VALUE=DATE:20260522
SUMMARY:ザ・ミー・ザット・リメインズ
DESCRIPTION:エイミー・グラント BSMF RECORDS
UID:4546266223792@kyohatsu.lb-product.com
END:VEVENT
END:VCALENDAR
