BEGIN:VCALENDAR
VERSION:2.0
PRODID:-//kyohatsu//JP
CALSCALE:GREGORIAN
BEGIN:VEVENT
DTSTART;VALUE=DATE:20260610
SUMMARY:幼なじみはいつも先走る　3
DESCRIPTION:ウシハシル 少年画報社
UID:9784785982164@kyohatsu.lb-product.com
END:VEVENT
END:VCALENDAR
