BEGIN:VCALENDAR
VERSION:2.0
PRODID:-//kyohatsu//JP
CALSCALE:GREGORIAN
BEGIN:VEVENT
DTSTART;VALUE=DATE:20260527
SUMMARY:イースト・オブ・エデン
DESCRIPTION:イースト・オブ・エデン ヴィヴィド・サウンド
UID:4540399326351@kyohatsu.lb-product.com
END:VEVENT
END:VCALENDAR
