BEGIN:VCALENDAR
VERSION:2.0
PRODID:-//kyohatsu//JP
CALSCALE:GREGORIAN
BEGIN:VEVENT
DTSTART;VALUE=DATE:20260727
SUMMARY:悪の決算
DESCRIPTION:イヴ・モンタン 
UID:4988182113724@kyohatsu.lb-product.com
END:VEVENT
END:VCALENDAR
