BEGIN:VCALENDAR
VERSION:2.0
PRODID:-//kyohatsu//JP
CALSCALE:GREGORIAN
BEGIN:VEVENT
DTSTART;VALUE=DATE:20260610
SUMMARY:吸血鬼と人間のBL（2）
DESCRIPTION:イブキ16号 海王社
UID:9784796418225@kyohatsu.lb-product.com
END:VEVENT
END:VCALENDAR
