BEGIN:VCALENDAR
VERSION:2.0
PRODID:-//kyohatsu//JP
CALSCALE:GREGORIAN
BEGIN:VEVENT
DTSTART;VALUE=DATE:20260623
SUMMARY:夜鷹ふたたび（2）
DESCRIPTION:イズミダ フユキ 講談社
UID:9784065436578@kyohatsu.lb-product.com
END:VEVENT
END:VCALENDAR
