BEGIN:VCALENDAR
VERSION:2.0
PRODID:-//kyohatsu//JP
CALSCALE:GREGORIAN
BEGIN:VEVENT
DTSTART;VALUE=DATE:20260617
SUMMARY:ザ・シングルズ・コレクション 1975-83
DESCRIPTION:イアン・ハンター SOLID、CHERRY RED
UID:4526180759973@kyohatsu.lb-product.com
END:VEVENT
END:VCALENDAR
