BEGIN:VCALENDAR
VERSION:2.0
PRODID:-//kyohatsu//JP
CALSCALE:GREGORIAN
BEGIN:VEVENT
DTSTART;VALUE=DATE:20260522
SUMMARY:エモーション・ファクトリー・リセット
DESCRIPTION:アーマード・セイント キングレコード(株)
UID:4988003670061@kyohatsu.lb-product.com
END:VEVENT
END:VCALENDAR
