BEGIN:VCALENDAR
VERSION:2.0
PRODID:-//kyohatsu//JP
CALSCALE:GREGORIAN
BEGIN:VEVENT
DTSTART;VALUE=DATE:20260605
SUMMARY:カヴァード・イン・ソウル
DESCRIPTION:アンジー・ストーン CLEOPATRA
UID:4526180758945@kyohatsu.lb-product.com
END:VEVENT
END:VCALENDAR
