BEGIN:VCALENDAR
VERSION:2.0
PRODID:-//kyohatsu//JP
CALSCALE:GREGORIAN
BEGIN:VEVENT
DTSTART;VALUE=DATE:20260604
SUMMARY:この音とまれ！ 34
DESCRIPTION:アミュー 集英社
UID:9784088850047@kyohatsu.lb-product.com
END:VEVENT
END:VCALENDAR
