BEGIN:VCALENDAR
VERSION:2.0
PRODID:-//kyohatsu//JP
CALSCALE:GREGORIAN
BEGIN:VEVENT
DTSTART;VALUE=DATE:20260522
SUMMARY:オルターエゴ（1）
DESCRIPTION:アナ・C・サンチェス KADOKAWA
UID:9784046854995@kyohatsu.lb-product.com
END:VEVENT
END:VCALENDAR
