BEGIN:VCALENDAR
VERSION:2.0
PRODID:-//kyohatsu//JP
CALSCALE:GREGORIAN
BEGIN:VEVENT
DTSTART;VALUE=DATE:20260624
SUMMARY:エヴリバディズ・ギヴィングアップ・ザ・キャバレー
DESCRIPTION:アス (株)ソニー・ミュージックレーベルズ
UID:4547366822151@kyohatsu.lb-product.com
END:VEVENT
END:VCALENDAR
