BEGIN:VCALENDAR
VERSION:2.0
PRODID:-//kyohatsu//JP
CALSCALE:GREGORIAN
BEGIN:VEVENT
DTSTART;VALUE=DATE:20260717
SUMMARY:【輸入盤】アクト・III
DESCRIPTION:アクト・III 
UID:0198029877823@kyohatsu.lb-product.com
END:VEVENT
END:VCALENDAR
