BEGIN:VCALENDAR
VERSION:2.0
PRODID:-//kyohatsu//JP
CALSCALE:GREGORIAN
BEGIN:VEVENT
DTSTART;VALUE=DATE:20260617
SUMMARY:ハムレット ゴーズ ビジネス/真夜中の虹【Blu-ray】
DESCRIPTION:アキ・カウリスマキ キングレコード(株)
UID:4988003894887@kyohatsu.lb-product.com
END:VEVENT
BEGIN:VEVENT
DTSTART;VALUE=DATE:20260617
SUMMARY:コントラクト・キラー/白い花びら【Blu-ray】
DESCRIPTION:アキ・カウリスマキ キングレコード(株)
UID:4988003894870@kyohatsu.lb-product.com
END:VEVENT
BEGIN:VEVENT
DTSTART;VALUE=DATE:20260617
SUMMARY:罪と罰 白夜のラスコーリニコフ/マッチ工場の少女【Blu-ray】
DESCRIPTION:アキ・カウリスマキ キングレコード(株)
UID:4988003894894@kyohatsu.lb-product.com
END:VEVENT
END:VCALENDAR
