BEGIN:VCALENDAR
VERSION:2.0
PRODID:-//kyohatsu//JP
CALSCALE:GREGORIAN
BEGIN:VEVENT
DTSTART;VALUE=DATE:20260715
SUMMARY:【楽天ブックス限定先着特典】Helianthe Solo Collection (ミッション・エリオント盤)(A4クリアファイル)
DESCRIPTION:アイカツアカデミー!配信部 (株)バンダイナムコミュージックライブ
UID:4540774191826@kyohatsu.lb-product.com
END:VEVENT
BEGIN:VEVENT
DTSTART;VALUE=DATE:20260715
SUMMARY:【楽天ブックス限定先着特典】Helianthe Solo Collection (ソロコレ盤)(A4クリアファイル)
DESCRIPTION:アイカツアカデミー!配信部 (株)バンダイナムコミュージックライブ
UID:4540774391820@kyohatsu.lb-product.com
END:VEVENT
END:VCALENDAR
