BEGIN:VCALENDAR
VERSION:2.0
PRODID:-//kyohatsu//JP
CALSCALE:GREGORIAN
BEGIN:VEVENT
DTSTART;VALUE=DATE:20260902
SUMMARY:【先着特典】わーすた 16th しんぐる(ポストカード)
DESCRIPTION:わーすた エイベックス・ミュージック・クリエイティヴ(株)
UID:4988064396900@kyohatsu.lb-product.com
END:VEVENT
BEGIN:VEVENT
DTSTART;VALUE=DATE:20260902
SUMMARY:【先着特典】わーすた 16th しんぐる (CD＋Blu-ray)(ポストカード)
DESCRIPTION:わーすた 
UID:2100014911199@kyohatsu.lb-product.com
END:VEVENT
BEGIN:VEVENT
DTSTART;VALUE=DATE:20260902
SUMMARY:わーすた 16th しんぐる (CD＋Blu-ray)
DESCRIPTION:わーすた エイベックス・ミュージック・クリエイティヴ(株)
UID:4988064396894@kyohatsu.lb-product.com
END:VEVENT
END:VCALENDAR
