BEGIN:VCALENDAR
VERSION:2.0
PRODID:-//kyohatsu//JP
CALSCALE:GREGORIAN
BEGIN:VEVENT
DTSTART;VALUE=DATE:20260427
SUMMARY:小さい皆さん、こんにちは2
DESCRIPTION:わたなべたけひこ 幻冬舎
UID:9784344698697@kyohatsu.lb-product.com
END:VEVENT
END:VCALENDAR
