BEGIN:VCALENDAR
VERSION:2.0
PRODID:-//kyohatsu//JP
CALSCALE:GREGORIAN
BEGIN:VEVENT
DTSTART;VALUE=DATE:20260522
SUMMARY:「わかるよ」の魔法
DESCRIPTION:りゅうこころ みらいパブリッシング
UID:9784434378980@kyohatsu.lb-product.com
END:VEVENT
END:VCALENDAR
