BEGIN:VCALENDAR
VERSION:2.0
PRODID:-//kyohatsu//JP
CALSCALE:GREGORIAN
BEGIN:VEVENT
DTSTART;VALUE=DATE:20260626
SUMMARY:ちりこ先輩は溜まっている。(2)
DESCRIPTION:ゆとりーぬ KADOKAWA
UID:9784049523188@kyohatsu.lb-product.com
END:VEVENT
END:VCALENDAR
