BEGIN:VCALENDAR
VERSION:2.0
PRODID:-//kyohatsu//JP
CALSCALE:GREGORIAN
BEGIN:VEVENT
DTSTART;VALUE=DATE:20260611
SUMMARY:新九郎、奔る！（23）
DESCRIPTION:ゆうき まさみ 小学館
UID:9784098640454@kyohatsu.lb-product.com
END:VEVENT
END:VCALENDAR
