BEGIN:VCALENDAR
VERSION:2.0
PRODID:-//kyohatsu//JP
CALSCALE:GREGORIAN
BEGIN:VEVENT
DTSTART;VALUE=DATE:20260428
SUMMARY:容赦のない猫たちに今日も絡まれています
DESCRIPTION:やーこ KADOKAWA
UID:9784049026788@kyohatsu.lb-product.com
END:VEVENT
END:VCALENDAR
