BEGIN:VCALENDAR
VERSION:2.0
PRODID:-//kyohatsu//JP
CALSCALE:GREGORIAN
BEGIN:VEVENT
DTSTART;VALUE=DATE:20260502
SUMMARY:死にいたるまで君を愛して
DESCRIPTION:やまだ　まや KADOKAWA
UID:9784041173824@kyohatsu.lb-product.com
END:VEVENT
END:VCALENDAR
