BEGIN:VCALENDAR
VERSION:2.0
PRODID:-//kyohatsu//JP
CALSCALE:GREGORIAN
BEGIN:VEVENT
DTSTART;VALUE=DATE:20260501
SUMMARY:ものがたりの小径　だんだん
DESCRIPTION:ものがたりの小径編集委員会 銀の鈴社
UID:9784866182070@kyohatsu.lb-product.com
END:VEVENT
END:VCALENDAR
