BEGIN:VCALENDAR
VERSION:2.0
PRODID:-//kyohatsu//JP
CALSCALE:GREGORIAN
BEGIN:VEVENT
DTSTART;VALUE=DATE:20260601
SUMMARY:氷の侯爵様に甘やかされたいっ！10〜シリアス展開しかない幼女に転生してしまった私の奮闘記〜
DESCRIPTION:もちだもちこ TOブックス
UID:9784868540144@kyohatsu.lb-product.com
END:VEVENT
END:VCALENDAR
