BEGIN:VCALENDAR
VERSION:2.0
PRODID:-//kyohatsu//JP
CALSCALE:GREGORIAN
BEGIN:VEVENT
DTSTART;VALUE=DATE:20260501
SUMMARY:おまえ、ギフテッドじゃねえの？
DESCRIPTION:みなみポール 文芸社
UID:9784286274256@kyohatsu.lb-product.com
END:VEVENT
END:VCALENDAR
