BEGIN:VCALENDAR
VERSION:2.0
PRODID:-//kyohatsu//JP
CALSCALE:GREGORIAN
BEGIN:VEVENT
DTSTART;VALUE=DATE:20260526
SUMMARY:王子と騎士は男装聖女が死ぬほど愛おしい（2）
DESCRIPTION:みなと ゆみ 小学館
UID:9784098733842@kyohatsu.lb-product.com
END:VEVENT
END:VCALENDAR
