BEGIN:VCALENDAR
VERSION:2.0
PRODID:-//kyohatsu//JP
CALSCALE:GREGORIAN
BEGIN:VEVENT
DTSTART;VALUE=DATE:20260601
SUMMARY:さようなら、家族の皆さま2〜不要だと捨てられた妻は、精霊王の愛し子でした〜
DESCRIPTION:みなと TOブックス
UID:9784868540205@kyohatsu.lb-product.com
END:VEVENT
END:VCALENDAR
