BEGIN:VCALENDAR
VERSION:2.0
PRODID:-//kyohatsu//JP
CALSCALE:GREGORIAN
BEGIN:VEVENT
DTSTART;VALUE=DATE:20260605
SUMMARY:星月夜工業高校ルナ同好会〜38万キロの奇跡〜　1
DESCRIPTION:みこさわめぐみ 芳文社
UID:9784832210332@kyohatsu.lb-product.com
END:VEVENT
END:VCALENDAR
