BEGIN:VCALENDAR
VERSION:2.0
PRODID:-//kyohatsu//JP
CALSCALE:GREGORIAN
BEGIN:VEVENT
DTSTART;VALUE=DATE:20260605
SUMMARY:異世界転移から始まる女子寮ハーレム!? 〜管理人として働く人間と恋する魔族娘たち〜（1）
DESCRIPTION:みぃとばん 竹書房
UID:9784801989849@kyohatsu.lb-product.com
END:VEVENT
END:VCALENDAR
