BEGIN:VCALENDAR
VERSION:2.0
PRODID:-//kyohatsu//JP
CALSCALE:GREGORIAN
BEGIN:VEVENT
DTSTART;VALUE=DATE:20260527
SUMMARY:猿渡教授の華麗なる闘い
DESCRIPTION:まどの 一哉 青林工藝舎
UID:9784883795314@kyohatsu.lb-product.com
END:VEVENT
END:VCALENDAR
