BEGIN:VCALENDAR
VERSION:2.0
PRODID:-//kyohatsu//JP
CALSCALE:GREGORIAN
BEGIN:VEVENT
DTSTART;VALUE=DATE:20260601
SUMMARY:恋人契約中につき　更新！
DESCRIPTION:まつだいお 大洋図書
UID:9784813034742@kyohatsu.lb-product.com
END:VEVENT
END:VCALENDAR
