BEGIN:VCALENDAR
VERSION:2.0
PRODID:-//kyohatsu//JP
CALSCALE:GREGORIAN
BEGIN:VEVENT
DTSTART;VALUE=DATE:20260519
SUMMARY:ティラノがにげた‼
DESCRIPTION:まつおかたつひで アリス館
UID:9784752011903@kyohatsu.lb-product.com
END:VEVENT
END:VCALENDAR
