BEGIN:VCALENDAR
VERSION:2.0
PRODID:-//kyohatsu//JP
CALSCALE:GREGORIAN
BEGIN:VEVENT
DTSTART;VALUE=DATE:20260622
SUMMARY:ぐんぐんどやどや　ざっそうぐんだん
DESCRIPTION:まついつばさ 中央公論新社
UID:9784120060366@kyohatsu.lb-product.com
END:VEVENT
END:VCALENDAR
