BEGIN:VCALENDAR
VERSION:2.0
PRODID:-//kyohatsu//JP
CALSCALE:GREGORIAN
BEGIN:VEVENT
DTSTART;VALUE=DATE:20260528
SUMMARY:君にこの「愛」をあげる（仮）
DESCRIPTION:まさを スターツ出版
UID:9784813796305@kyohatsu.lb-product.com
END:VEVENT
END:VCALENDAR
