BEGIN:VCALENDAR
VERSION:2.0
PRODID:-//kyohatsu//JP
CALSCALE:GREGORIAN
BEGIN:VEVENT
DTSTART;VALUE=DATE:20260610
SUMMARY:恋に事件は憑きものです
DESCRIPTION:ぽぽたぱぽた 海王社
UID:9784796418287@kyohatsu.lb-product.com
END:VEVENT
BEGIN:VEVENT
DTSTART;VALUE=DATE:20260626
SUMMARY:甘い声でStayなんて言うんじゃねぇ！（2）
DESCRIPTION:ぽぽたぱぽた ナンバーナイン
UID:9784434380006@kyohatsu.lb-product.com
END:VEVENT
END:VCALENDAR
