BEGIN:VCALENDAR
VERSION:2.0
PRODID:-//kyohatsu//JP
CALSCALE:GREGORIAN
BEGIN:VEVENT
DTSTART;VALUE=DATE:20260520
SUMMARY:ひび猫にっき（1）
DESCRIPTION:ふじひと KADOKAWA
UID:9784046854056@kyohatsu.lb-product.com
END:VEVENT
END:VCALENDAR
